BEGIN:VCALENDAR
VERSION:2.0
PRODID:-//Portal do CMDCA de Ipuã-SP - ECPv6.3.1//NONSGML v1.0//EN
CALSCALE:GREGORIAN
METHOD:PUBLISH
X-ORIGINAL-URL:https://ipua.municipiovivo.com.br
X-WR-CALDESC:Eventos para Portal do CMDCA de Ipuã-SP
REFRESH-INTERVAL;VALUE=DURATION:PT1H
X-Robots-Tag:noindex
X-PUBLISHED-TTL:PT1H
BEGIN:VTIMEZONE
TZID:America/Sao_Paulo
BEGIN:STANDARD
TZOFFSETFROM:-0300
TZOFFSETTO:-0300
TZNAME:-03
DTSTART:20250101T000000
END:STANDARD
END:VTIMEZONE
BEGIN:VEVENT
DTSTART;TZID=America/Sao_Paulo:20250105T080000
DTEND;TZID=America/Sao_Paulo:20250105T090000
DTSTAMP:20260420T165259
CREATED:20250105T094820Z
LAST-MODIFIED:20250105T100304Z
UID:2100-1736064000-1736067600@ipua.municipiovivo.com.br
SUMMARY:Reunião de Lançamento do Projeto de Diagnóstico
DESCRIPTION:Data e Horário : Data: 12 de dezembro de 2024\, com início 08h58 e duração: 108 minutos \nA reunião contou com ampla participação da rede intersetorial\, incluindo representantes das seguintes áreas: \n\nEducação: Professores\, psicólogos e gestores escolares.\nSaúde Pública: Agentes de saúde e epidemiológicos.\nSegurança Pública: Representante da Delegacia Civil.\nGestão Pública: Representantes do CMDCA e secretarias municipais.\nTecnologia e Inteligência de Dados: Consultores da Orion.\nAssistência Social e Juventude: Casa da Juventude\, Conselho Tutelar\, CMDCA e outros.\n\nEssa diversidade reflete o comprometimento com uma abordagem participativa e colaborativa para o diagnóstico situacional.
URL:https://ipua.municipiovivo.com.br/eventos/reuniao-de-lancamento-do-projeto-de-diagnostico/
LOCATION:São Paulo
CATEGORIES:Reunião Remota
ATTACH;FMTTYPE=image/png:https://ipua.municipiovivo.com.br/wp-content/uploads/sites/82/2025/01/image-1.png
END:VEVENT
END:VCALENDAR