BEGIN:VCALENDAR
VERSION:2.0
PRODID:-//Portal do CMDCA de Ipuã-SP - ECPv6.3.1//NONSGML v1.0//EN
CALSCALE:GREGORIAN
METHOD:PUBLISH
X-ORIGINAL-URL:https://ipua.municipiovivo.com.br
X-WR-CALDESC:Eventos para Portal do CMDCA de Ipuã-SP
REFRESH-INTERVAL;VALUE=DURATION:PT1H
X-Robots-Tag:noindex
X-PUBLISHED-TTL:PT1H
BEGIN:VTIMEZONE
TZID:America/Sao_Paulo
BEGIN:STANDARD
TZOFFSETFROM:-0300
TZOFFSETTO:-0300
TZNAME:-03
DTSTART:20250101T000000
END:STANDARD
END:VTIMEZONE
BEGIN:VEVENT
DTSTART;TZID=America/Sao_Paulo:20250106T080000
DTEND;TZID=America/Sao_Paulo:20250106T160000
DTSTAMP:20260420T164405
CREATED:20250105T095700Z
LAST-MODIFIED:20250105T095700Z
UID:2109-1736150400-1736179200@ipua.municipiovivo.com.br
SUMMARY:Oficina de Mobilização e Alinhamento do Diagnóstico Situacional das Crianças e Adolescentes em Ipuã-SP
DESCRIPTION:O ano começa com um compromisso renovado pela garantia de direitos e oportunidades iguais para todas as crianças e adolescentes de Ipuã-SP! \nA primeira oficina do Diagnóstico Situacional da Criança e do Adolescente será realizada no dia 06/01/2025\, às 8h\, na Casa da Juventude de Ipuã-SP\, localizada na Av. Maria de Lourdes Almeida Gerim\, 553\, Ipuã-SP. \nEste evento inaugura um movimento estratégico voltado para uma compreensão aprofundada da realidade local\, com o objetivo de identificar demandas prioritárias\, mapear potencialidades e traçar um plano de ação efetivo que assegure os direitos e promova o pleno desenvolvimento das crianças e adolescentes do município. \nParticipe e faça parte desse movimento de transformação social!
URL:https://ipua.municipiovivo.com.br/eventos/oficina-de-mobilizacao-e-alinhamento-do-diagnostico-situacional-das-criancas-e-adolescentes-em-ipua-sp/
LOCATION:Casa da Juventude de Ipuã-SP\, Av. Maria de Lourdes Almeida Gerim\, Ipuã\, São Paulo\, 14610-000\, Brasil
ATTACH;FMTTYPE=image/jpeg:https://ipua.municipiovivo.com.br/wp-content/uploads/sites/82/2025/01/Casa-da-Juventude-de-Ipua.jpeg
END:VEVENT
END:VCALENDAR