BEGIN:VCALENDAR
VERSION:2.0
PRODID:-//Portal do CMDCA de Ipuã-SP - ECPv6.3.1//NONSGML v1.0//EN
CALSCALE:GREGORIAN
METHOD:PUBLISH
X-WR-CALNAME:Portal do CMDCA de Ipuã-SP
X-ORIGINAL-URL:https://ipua.municipiovivo.com.br
X-WR-CALDESC:Eventos para Portal do CMDCA de Ipuã-SP
REFRESH-INTERVAL;VALUE=DURATION:PT1H
X-Robots-Tag:noindex
X-PUBLISHED-TTL:PT1H
BEGIN:VTIMEZONE
TZID:America/Sao_Paulo
BEGIN:STANDARD
TZOFFSETFROM:-0300
TZOFFSETTO:-0300
TZNAME:-03
DTSTART:20250101T000000
END:STANDARD
END:VTIMEZONE
BEGIN:VEVENT
DTSTART;TZID=America/Sao_Paulo:20250129T080000
DTEND;TZID=America/Sao_Paulo:20250129T100000
DTSTAMP:20260420T151821
CREATED:20250113T210929Z
LAST-MODIFIED:20250113T211020Z
UID:2228-1738137600-1738144800@ipua.municipiovivo.com.br
SUMMARY:3a. Orientação e acompanhamento da coleta de dados - Remota
DESCRIPTION:
URL:https://ipua.municipiovivo.com.br/eventos/3a-orientacao-e-acompanhamento-da-coleta-de-dados-remota/
LOCATION:São Paulo
END:VEVENT
END:VCALENDAR