BEGIN:VCALENDAR
VERSION:2.0
PRODID:-//Portal do CMDCA de Ipuã-SP - ECPv6.3.1//NONSGML v1.0//EN
CALSCALE:GREGORIAN
METHOD:PUBLISH
X-WR-CALNAME:Portal do CMDCA de Ipuã-SP
X-ORIGINAL-URL:https://ipua.municipiovivo.com.br
X-WR-CALDESC:Eventos para Portal do CMDCA de Ipuã-SP
REFRESH-INTERVAL;VALUE=DURATION:PT1H
X-Robots-Tag:noindex
X-PUBLISHED-TTL:PT1H
BEGIN:VTIMEZONE
TZID:America/Sao_Paulo
BEGIN:STANDARD
TZOFFSETFROM:-0300
TZOFFSETTO:-0300
TZNAME:-03
DTSTART:20250101T000000
END:STANDARD
END:VTIMEZONE
BEGIN:VEVENT
DTSTART;TZID=America/Sao_Paulo:20250331T130000
DTEND;TZID=America/Sao_Paulo:20250331T170000
DTSTAMP:20260420T182844
CREATED:20250321T204215Z
LAST-MODIFIED:20250321T204215Z
UID:2256-1743426000-1743440400@ipua.municipiovivo.com.br
SUMMARY:Oficina do Marco Situacional do Diagnóstico da Criança e Adolescente de Ipuã-SP
DESCRIPTION:
URL:https://ipua.municipiovivo.com.br/eventos/oficina-do-marco-situacional-do-diagnostico-da-crianca-e-adolescente-de-ipua-sp/
LOCATION:Casa da Juventude de Ipuã-SP\, Av. Maria de Lourdes Almeida Gerim\, Ipuã\, São Paulo\, 14610-000\, Brasil
CATEGORIES:Reunião Presencial
END:VEVENT
BEGIN:VEVENT
DTSTART;TZID=America/Sao_Paulo:20250526T080000
DTEND;TZID=America/Sao_Paulo:20250526T160000
DTSTAMP:20260420T182844
CREATED:20250523T200217Z
LAST-MODIFIED:20250523T200228Z
UID:2348-1748246400-1748275200@ipua.municipiovivo.com.br
SUMMARY:Oficina do Plano Municipal da Criança e do Adolescente de Ipuã-SP
DESCRIPTION:📅 26/05/2025 | ⏰ Manhã: 08h-11h | Tarde: 13h-16h\n📍 Casa da Juventude \nVocê é fundamental para construirmos juntos um plano que garanta os direitos e a proteção das crianças e adolescentes de Ipuã! \nNesta oficina\, vamos apresentar o diagnóstico final e iniciar a construção do Plano de Ação Municipal. Sua voz precisa estar presente para definir prioridades que impactam nosso município! \n👉 Participe e contribua com suas ideias! \n#Ipuã #PlanoMunicipal #DiagnosticoSocial #DireitosDaCriança #Adolescente #OficinaParticipativa
URL:https://ipua.municipiovivo.com.br/eventos/oficina-do-plano-municipal-da-crianca-e-do-adolescente-de-ipua/
LOCATION:Casa da Juventude de Ipuã-SP\, Av. Maria de Lourdes Almeida Gerim\, Ipuã\, São Paulo\, 14610-000\, Brasil
CATEGORIES:Oficina,Reunião Presencial
ATTACH;FMTTYPE=image/jpeg:https://ipua.municipiovivo.com.br/wp-content/uploads/sites/82/2025/05/evento_municipiovivo_ipua_planomunicipal.jpg
END:VEVENT
BEGIN:VEVENT
DTSTART;TZID=America/Sao_Paulo:20250731T083000
DTEND;TZID=America/Sao_Paulo:20250731T160000
DTSTAMP:20260420T182844
CREATED:20250722T193606Z
LAST-MODIFIED:20250722T193901Z
UID:2376-1753950600-1753977600@ipua.municipiovivo.com.br
SUMMARY:CMDCA de Ipuã realiza última oficina do Plano de Ação para a Primeira Infância
DESCRIPTION:O Conselho Municipal dos Direitos da Criança e do Adolescente (CMDCA) de Ipuã convida os profissionais da rede de proteção e garantia de direitos da criança e do adolescente para participarem da última oficina de elaboração do Plano de Ação\, com foco na Primeira Infância\, dentro do processo do Diagnóstico Situacional da Criança e do Adolescente de Ipuã. \n📅 Data: 31 de julho de 2025\n🕗 Horário: das 8h às 11h30 e das 13h às 16h\n📍 Local: Casa da Juventude\n📌 Endereço: Av. Maria de Lourdes Almeida Gerim\, 553 – Ipuã-SP \nA oficina representa um momento estratégico de construção coletiva\, com o objetivo de alinhar ações\, propor soluções e fortalecer as políticas públicas voltadas à infância no município. \nA participação de toda a rede é essencial para garantir um plano efetivo e alinhado às reais necessidades das nossas crianças e adolescentes. \n#CMDCAIpuã #PrimeiraInfância #DiagnósticoSituacional #RedeDeProteção #GarantiaDeDireitos #MunicípioVivo 
URL:https://ipua.municipiovivo.com.br/eventos/cmdca-de-ipua-realiza-ultima-oficina-do-plano-de-acao-para-a-primeira-infancia/
LOCATION:Casa da Juventude de Ipuã-SP\, Av. Maria de Lourdes Almeida Gerim\, Ipuã\, São Paulo\, 14610-000\, Brasil
CATEGORIES:Oficina,Reunião Presencial
ATTACH;FMTTYPE=image/jpeg:https://ipua.municipiovivo.com.br/wp-content/uploads/sites/82/2025/07/oficina_municipiovivo_ipua_diagnostico_situacional.jpg
END:VEVENT
END:VCALENDAR